BEGIN:VCALENDAR
VERSION:2.0
PRODID:-//Saint-Félicien - ECPv6.0.3.1//NONSGML v1.0//EN
CALSCALE:GREGORIAN
METHOD:PUBLISH
X-WR-CALNAME:Saint-Félicien
X-ORIGINAL-URL:https://www.saint-felicien.fr
X-WR-CALDESC:Events for Saint-Félicien
REFRESH-INTERVAL;VALUE=DURATION:PT1H
X-Robots-Tag:noindex
X-PUBLISHED-TTL:PT1H
BEGIN:VTIMEZONE
TZID:Europe/Paris
BEGIN:DAYLIGHT
TZOFFSETFROM:+0100
TZOFFSETTO:+0200
TZNAME:CEST
DTSTART:20260329T010000
END:DAYLIGHT
BEGIN:STANDARD
TZOFFSETFROM:+0200
TZOFFSETTO:+0100
TZNAME:CET
DTSTART:20261025T010000
END:STANDARD
END:VTIMEZONE
BEGIN:VEVENT
DTSTART;TZID=Europe/Paris:20260414T080000
DTEND;TZID=Europe/Paris:20260703T170000
DTSTAMP:20260421T025125
CREATED:20260414T211412Z
LAST-MODIFIED:20260420T070204Z
UID:8506-1776153600-1783098000@www.saint-felicien.fr
SUMMARY:PERMANENCES URBANISME Avril - Juillet 2026
DESCRIPTION:Vous avez un projet de construction ? \nAfin de vous accompagner\, ARCHE Agglo assure des permanences\ngratuites et ouvertes à tous concernant les autorisations\nd’urbanisme (permis de construire\, déclaration préalable…) \n  \nMATINS\, SUR RENDEZ VOUS  \n\nVENDREDI 24 AVRIL\, Saint-Donat-sur-l’Herbasse (mairie)\nMARDI 5 MAI\, Plats (mairie)\nVENDREDI 22 MAI\, Larnage (mairie)\nVENDREDI 5 JUIN\, Mauves (site ARCHE Agglo)\nVENDREDI 19 JUIN\, Saint-Félicien (mairie)\nVENDREDI 3 JUILLET\, Mercurol-Veaunes (mairie)\n\n  \nRDV à prendre lors des permanences téléphoniques\nTél : 04 26 78 57 85\nMardi et jeudi : 8h30-12h et 13h30-17h\nConsultez l’ensemble des dates et lieux de permanences sur www.archeagglo.fr \n  \n \n  \n \n  \nPERMANENCES-URBANISME_Avril_Mai_Juin_2026
URL:https://www.saint-felicien.fr/evenement/permanences-urbanisme-avril-juillet-2026/
LOCATION:ARDECHE
ATTACH;FMTTYPE=image/jpeg:https://www.saint-felicien.fr/wp-content/uploads/2026/04/PERMANENCES-URBANISME_Avril_Mai_Juin_2026-1.jpg
END:VEVENT
BEGIN:VEVENT
DTSTART;TZID=Europe/Paris:20260419T080000
DTEND;TZID=Europe/Paris:20260501T170000
DTSTAMP:20260421T025125
CREATED:20260419T151244Z
LAST-MODIFIED:20260420T070021Z
UID:8532-1776585600-1777654800@www.saint-felicien.fr
SUMMARY:L’Amicale des Sapeurs-Pompiers de Saint-Félicien organise sa traditionnelle paella
DESCRIPTION:🍲 Réservation Paella du 1er Mai 2026 🍲 \nL’Amicale des Sapeurs-Pompiers de Saint-Félicien organise sa traditionnelle paella le 1er mai 2026\, de 9h30 à 13h30 ! \n📍 Lieu : Centre de secours de Saint-Félicien – Chemin de Jomard\, 07410 Saint-Félicien \n🍽 Au menu : Une délicieuse paella à déguster sur place ou à emporter. \n🔗 Réservez dès maintenant : Lien de réservation \n✨ Venez nombreux soutenir vos sapeurs-pompiers locaux et passer un moment convivial ! \n  \n\nN’hésitez pas à partager l’événement autour de vous ! 😊 \n 
URL:https://www.saint-felicien.fr/evenement/lamicale-des-sapeurs-pompiers-de-saint-felicien-organise-sa-traditionnelle-paella/
LOCATION:Centre de\, Chemin de Jomard\, Saint-Félicien\, ARDECHE\, 07410\, France
ATTACH;FMTTYPE=image/jpeg:https://www.saint-felicien.fr/wp-content/uploads/2026/04/Paella-des-sapeurs-pompiers-de-St-Felicien-du-1-mai-2026-a-la-caserne.jpg
END:VEVENT
BEGIN:VEVENT
DTSTART;TZID=Europe/Paris:20260421T200000
DTEND;TZID=Europe/Paris:20260421T220000
DTSTAMP:20260421T025125
CREATED:20260420T080816Z
LAST-MODIFIED:20260420T080924Z
UID:8561-1776801600-1776808800@www.saint-felicien.fr
SUMMARY:Barbara (par Barbara) -  Salle culturelle de Colombier-le-Vieux
DESCRIPTION:Barbara-par-Barbara \n\n\n🎭 Soirée exceptionnelle à Colombier-le-Vieux ! 🎶 \n📅 Mardi 21 avril 2026 à 20h00 \n📍 Salle culturelle de Colombier-le-Vieux \nPrès de vingt-cinq ans après la disparition de Barbara\, la comédienne Marie-Sophie Ferdane redonne vie à la « longue dame brune ». Accompagnée d’un pianiste\, elle vous invite à découvrir une facette intime et captivante de la célèbre chanteuse. \n🔗 Plus d’infos et réservations :  \n💬 Une soirée à ne pas manquer pour les amateurs de musique et d’émotion ! Partagez l’info et venez nombreux ! \n\n 
URL:https://www.saint-felicien.fr/evenement/8561/
LOCATION:Colombier le vieux\, Place du Marché 07410 Colombier le Vieux\, Colombier le vieux\, ARDECHE\, 07410\, France
ATTACH;FMTTYPE=image/jpeg:https://www.saint-felicien.fr/wp-content/uploads/2026/04/Colombier_Tract_Barbara_25-26_comedie_itinerante_Page1.jpg
END:VEVENT
END:VCALENDAR